BEGIN:VCALENDAR
VERSION:2.0
METHOD:PUBLISH
BEGIN:VEVENT
UID:WILD_APRICOT_EVENT_3614594_SESSION_1
DTSTART:20191209T210000Z
DTEND:20200418T070000Z
SUMMARY:SEW-ALONG - COUTURE CARDIGAN JACKET
LOCATION:Online
DESCRIPTION:https://aussew.org.au/event-3614594\n\nRegistration via the website is now closed.  Anyone wishing to join in can do so by emailing sewalong@aussew.org.au.\n  ASG Members - Free\n  Non-members - $95 AUD\n  Sew-Along commences 27 January 2020.\n  Start 2020 with a sewing challenge - make a classic cardigan-style jacket\, often called a French jacket.  It's a timeless and elegant garment and every wardrobe should have one.\n   This sew-along will be spread out over several months as you will want to take your time - lots and lots of hand sewing involved.  The first two weeks will be devoted to making and fitting a toile.  Then onto the garment which will be constructed over a 12-week period.  Of course\, you can go slower if you want - work at your own pace.\n   Click here  for more details and a supply list.\n    
DTSTAMP:20260424T162622Z
END:VEVENT
END:VCALENDAR
