BEGIN:VCALENDAR
VERSION:2.0
METHOD:PUBLISH
BEGIN:VEVENT
UID:WILD_APRICOT_EVENT_3646127_SESSION_1
DTSTART:20200313T233000Z
DTEND:20200314T060000Z
SUMMARY:NSW INDUSTRY DAY
LOCATION:Canterbury Leagues Club\, 26 Bridge Road\, Belmore NSW
DESCRIPTION:https://aussew.org.au/event-3646127\n\nJoin us for the Autumn 2020 NSW Industry Day on Saturday 14 March 2020 at Canterbury Leagues Club\, Belmore. The day features educational workshops\, fascinating speakers\, bargain shopping\, and is a unique chance for like-minded sewers to get together learn something new\, pick up some bargains and connect with friends old and new.\n  Tickets include workshops\, coffee and tea (all day)\, morning tea and lunch.\n  Event Brochure\n\n  Fees\n  Early Bird (to 8 February) - ASG members $45\; Non-members $55\n  Full Price (from 8 February) - ASG members $55\; Non-members $65\n  Students - ASG members $20\; Non-members $25\n  Bookings close 8 March 2020\n  No refunds after bookings close\n  Book now by clicking the link\n  BOOK NOW\n   or copy and paste this URL into your browser https://www.trybooking.com/BHXHV \n\n  \n\n  \n\n
DTSTAMP:20260424T162603Z
END:VEVENT
END:VCALENDAR
